BEGIN:VCALENDAR
VERSION:2.0
PRODID:concerti//https://www.concerti.de
CALSCALE:GREGORIAN
BEGIN:VTIMEZONE
TZID:Europe/Berlin
X-LIC-LOCATION:Europe/Berlin
BEGIN:DAYLIGHT
TZOFFSETFROM:+0100
TZOFFSETTO:+0200
TZNAME:CEST
DTSTART:19700329T020000
RRULE:FREQ=YEARLY;BYMONTH=3;BYDAY=-1SU
END:DAYLIGHT
BEGIN:STANDARD
TZOFFSETFROM:+0200
TZOFFSETTO:+0100
TZNAME:CET
DTSTART:19701025T030000
RRULE:FREQ=YEARLY;BYMONTH=10;BYDAY=-1SU
END:STANDARD
END:VTIMEZONE
BEGIN:VEVENT
UID:66ced827f3e7f96cd1a5fff3b088381d
SUMMARY:Eva Kuhn, (Mezzosopran), Lucas Cortoos (Gesang), Oriel Marengo Ruiz (Kontrabass), Ratko Pavlovic (Akkordeon), Lisa Schöttl (Hackbrett), Sarah Luisa Wurmer (Zither) - aDevantgarde
URL:https://www.concerti.de/termine/eva-kuhn-mezzosopran-lucas-cortoos-gesang-oriel-marengo-ruiz-kontrabass-ratko-pavlovic-akkordeon-lisa-schoettl-hackbrett-sarah-luisa-wurmer-zither-895546/
DTSTART;TZID=Europe/Berlin:20260706T200000
DTEND;TZID=Europe/Berlin:20260706T220000
DESCRIPTION:Interpreten: Eva Kuhn\, (Mezzosopran)\, Lucas Cortoos (Gesang)\, Oriel Marengo Ruiz (Kontrabass)\, Ratko Pavlovic (Akkordeon)\, Lisa Schöttl (Hackbrett)\, Sarah Luisa Wurmer (Zither) \nProgramm: Werke von Azevedo\, Blum\, Hooper\, Klose\, Nagai & Smith \nhttps://www.concerti.de/termine/eva-kuhn-mezzosopran-lucas-cortoos-gesang-oriel-marengo-ruiz-kontrabass-ratko-pavlovic-akkordeon-lisa-schoettl-hackbrett-sarah-luisa-wurmer-zither-895546/
LOCATION:Einstein-Kultur\, München
END:VEVENT
END:VCALENDAR