BEGIN:VCALENDAR
VERSION:2.0
PRODID:concerti//https://www.concerti.de
CALSCALE:GREGORIAN
BEGIN:VTIMEZONE
TZID:Europe/Berlin
X-LIC-LOCATION:Europe/Berlin
BEGIN:DAYLIGHT
TZOFFSETFROM:+0100
TZOFFSETTO:+0200
TZNAME:CEST
DTSTART:19700329T020000
RRULE:FREQ=YEARLY;BYMONTH=3;BYDAY=-1SU
END:DAYLIGHT
BEGIN:STANDARD
TZOFFSETFROM:+0200
TZOFFSETTO:+0100
TZNAME:CET
DTSTART:19701025T030000
RRULE:FREQ=YEARLY;BYMONTH=10;BYDAY=-1SU
END:STANDARD
END:VTIMEZONE
BEGIN:VEVENT
UID:464db7344e22eee1a537118e31caffef
SUMMARY:Quasar Saxophone Quartet - aDevantgarde: Gesprächskonzert
URL:https://www.concerti.de/termine/quasar-saxophone-quartet-schwere-reiter-895539/
DTSTART;TZID=Europe/Berlin:20260704T200000
DTEND;TZID=Europe/Berlin:20260704T220000
DESCRIPTION:Interpreten: Quasar Saxophone Quartet \nhttps://www.concerti.de/termine/quasar-saxophone-quartet-schwere-reiter-895539/
LOCATION:Schwere Reiter\, Dachauer Straße 114\, 80636 München
END:VEVENT
END:VCALENDAR