BEGIN:VCALENDAR
VERSION:2.0
PRODID:concerti//https://www.concerti.de
CALSCALE:GREGORIAN
BEGIN:VTIMEZONE
TZID:Europe/Berlin
X-LIC-LOCATION:Europe/Berlin
BEGIN:DAYLIGHT
TZOFFSETFROM:+0100
TZOFFSETTO:+0200
TZNAME:CEST
DTSTART:19700329T020000
RRULE:FREQ=YEARLY;BYMONTH=3;BYDAY=-1SU
END:DAYLIGHT
BEGIN:STANDARD
TZOFFSETFROM:+0200
TZOFFSETTO:+0100
TZNAME:CET
DTSTART:19701025T030000
RRULE:FREQ=YEARLY;BYMONTH=10;BYDAY=-1SU
END:STANDARD
END:VTIMEZONE
BEGIN:VEVENT
UID:002db0cc0ecb38773edbe952c76f7edb
SUMMARY:Marlis Neumann (Harfe), Münchener Kammerorchester, Gregor A. Mayrhofer (Leitung) - aDevantgarde
URL:https://www.concerti.de/termine/marlis-neumann-harfe-muenchener-kammerorchester-gregor-a-mayrhofer-leitung-schwere-reiter-895536/
DTSTART;TZID=Europe/Berlin:20260629T200000
DTEND;TZID=Europe/Berlin:20260629T220000
DESCRIPTION:Interpreten: Marlis Neumann (Harfe)\, Münchener Kammerorchester\, Gregor A. Mayrhofer (Leitung) \nProgramm: Werke von Schneid (UA)\, Ferek-Petric (UA)\, Dieck (UA)\, Schiphorst\, Skweres & Haider \nhttps://www.concerti.de/termine/marlis-neumann-harfe-muenchener-kammerorchester-gregor-a-mayrhofer-leitung-schwere-reiter-895536/
LOCATION:Schwere Reiter\, Dachauer Straße 114\, 80636 München
END:VEVENT
END:VCALENDAR