BEGIN:VCALENDAR
VERSION:2.0
PRODID:concerti//https://www.concerti.de
CALSCALE:GREGORIAN
BEGIN:VTIMEZONE
TZID:Europe/Berlin
X-LIC-LOCATION:Europe/Berlin
BEGIN:DAYLIGHT
TZOFFSETFROM:+0100
TZOFFSETTO:+0200
TZNAME:CEST
DTSTART:19700329T020000
RRULE:FREQ=YEARLY;BYMONTH=3;BYDAY=-1SU
END:DAYLIGHT
BEGIN:STANDARD
TZOFFSETFROM:+0200
TZOFFSETTO:+0100
TZNAME:CET
DTSTART:19701025T030000
RRULE:FREQ=YEARLY;BYMONTH=10;BYDAY=-1SU
END:STANDARD
END:VTIMEZONE
BEGIN:VEVENT
UID:b7979037cf68f7fce5f9b23bf129fb9a
SUMMARY:der/gelbe/klang, Armando Merino (Leitung) - aDevantgarde
URL:https://www.concerti.de/termine/der-gelbe-klang-armando-merino-leitung-schwere-reiter-895527/
DTSTART;TZID=Europe/Berlin:20260627T200000
DTEND;TZID=Europe/Berlin:20260627T220000
DESCRIPTION:Interpreten: der/gelbe/klang\, Armando Merino (Leitung) \nProgramm: Werke von Deuse (UA)\, Zmelty (UA) & Zwerger (UA) \nhttps://www.concerti.de/termine/der-gelbe-klang-armando-merino-leitung-schwere-reiter-895527/
LOCATION:Schwere Reiter\, Dachauer Straße 114\, 80636 München
END:VEVENT
END:VCALENDAR