BEGIN:VCALENDAR
VERSION:2.0
PRODID:concerti//https://www.concerti.de
CALSCALE:GREGORIAN
BEGIN:VTIMEZONE
TZID:Europe/Berlin
X-LIC-LOCATION:Europe/Berlin
BEGIN:DAYLIGHT
TZOFFSETFROM:+0100
TZOFFSETTO:+0200
TZNAME:CEST
DTSTART:19700329T020000
RRULE:FREQ=YEARLY;BYMONTH=3;BYDAY=-1SU
END:DAYLIGHT
BEGIN:STANDARD
TZOFFSETFROM:+0200
TZOFFSETTO:+0100
TZNAME:CET
DTSTART:19701025T030000
RRULE:FREQ=YEARLY;BYMONTH=10;BYDAY=-1SU
END:STANDARD
END:VTIMEZONE
BEGIN:VEVENT
UID:68094a0809cc5c91e70624161340f28a
SUMMARY:Timmy 1001 Nacht
URL:https://www.concerti.de/termine/timmy-1001-nacht-895518/
DTSTART;TZID=Europe/Berlin:20260620T160000
DTEND;TZID=Europe/Berlin:20260620T180000
DESCRIPTION:Interpreten: Kammerensemble des Freien Landestheater Bayern \nProgramm: Werke von Mozart\, Rimski-Korsakow\, Tschaikowsky\, R. Strauss u. a. \nhttps://www.concerti.de/termine/timmy-1001-nacht-895518/
LOCATION:Kultur im Oberbräu\, Holzkirchen
END:VEVENT
END:VCALENDAR