BEGIN:VCALENDAR
VERSION:2.0
PRODID:concerti//https://www.concerti.de
CALSCALE:GREGORIAN
BEGIN:VTIMEZONE
TZID:Europe/Berlin
X-LIC-LOCATION:Europe/Berlin
BEGIN:DAYLIGHT
TZOFFSETFROM:+0100
TZOFFSETTO:+0200
TZNAME:CEST
DTSTART:19700329T020000
RRULE:FREQ=YEARLY;BYMONTH=3;BYDAY=-1SU
END:DAYLIGHT
BEGIN:STANDARD
TZOFFSETFROM:+0200
TZOFFSETTO:+0100
TZNAME:CET
DTSTART:19701025T030000
RRULE:FREQ=YEARLY;BYMONTH=10;BYDAY=-1SU
END:STANDARD
END:VTIMEZONE
BEGIN:VEVENT
UID:2197d46f1f0ccfd66e958c2975bb1c4a
SUMMARY:Charmaine Yang (Klavier)
URL:https://www.concerti.de/termine/charmaine-yang-klavier-residenz-muenchen-895515/
DTSTART;TZID=Europe/Berlin:20260630T200000
DTEND;TZID=Europe/Berlin:20260630T220000
DESCRIPTION:Interpreten: Charmaine Yang (Klavier) \nProgramm: Beethoven Klaviersonate Nr. 14 cis-Moll op. 27/2 „Mondschein“\, Beethoven: Klaviersonate Nr. 23 f-Moll op. 57\, Schubert: Klaviersonate B-Dur D 960 \nhttps://www.concerti.de/termine/charmaine-yang-klavier-residenz-muenchen-895515/
LOCATION:Residenz München\, Residenzstraße 1\, 80333 München
END:VEVENT
END:VCALENDAR