BEGIN:VCALENDAR
VERSION:2.0
PRODID:concerti//https://www.concerti.de
CALSCALE:GREGORIAN
BEGIN:VTIMEZONE
TZID:Europe/Berlin
X-LIC-LOCATION:Europe/Berlin
BEGIN:DAYLIGHT
TZOFFSETFROM:+0100
TZOFFSETTO:+0200
TZNAME:CEST
DTSTART:19700329T020000
RRULE:FREQ=YEARLY;BYMONTH=3;BYDAY=-1SU
END:DAYLIGHT
BEGIN:STANDARD
TZOFFSETFROM:+0200
TZOFFSETTO:+0100
TZNAME:CET
DTSTART:19701025T030000
RRULE:FREQ=YEARLY;BYMONTH=10;BYDAY=-1SU
END:STANDARD
END:VTIMEZONE
BEGIN:VEVENT
UID:c0d6b3e1468689f12194135275300a6f
SUMMARY:Mitglieder des Opernstudios der Bayerischen Staatsoper, Tobias Truniger (Leitung)
URL:https://www.concerti.de/termine/mitglieder-des-opernstudios-der-bayerischen-staatsoper-tobias-truniger-leitung-residenz-muenchen-895512/
DTSTART;TZID=Europe/Berlin:20260628T200000
DTEND;TZID=Europe/Berlin:20260628T220000
DESCRIPTION:Interpreten: Mitglieder des Opernstudios der Bayerischen Staatsoper\, Tobias Truniger (Leitung) \nProgramm: Werke von Thomas\, Offenbach\, Saint-Saëns\, Donizetti\, Verdi u. a. \nhttps://www.concerti.de/termine/mitglieder-des-opernstudios-der-bayerischen-staatsoper-tobias-truniger-leitung-residenz-muenchen-895512/
LOCATION:Residenz München\, Residenzstraße 1\, 80333 München
END:VEVENT
END:VCALENDAR