BEGIN:VCALENDAR
VERSION:2.0
PRODID:concerti//https://www.concerti.de
CALSCALE:GREGORIAN
BEGIN:VTIMEZONE
TZID:Europe/Berlin
X-LIC-LOCATION:Europe/Berlin
BEGIN:DAYLIGHT
TZOFFSETFROM:+0100
TZOFFSETTO:+0200
TZNAME:CEST
DTSTART:19700329T020000
RRULE:FREQ=YEARLY;BYMONTH=3;BYDAY=-1SU
END:DAYLIGHT
BEGIN:STANDARD
TZOFFSETFROM:+0200
TZOFFSETTO:+0100
TZNAME:CET
DTSTART:19701025T030000
RRULE:FREQ=YEARLY;BYMONTH=10;BYDAY=-1SU
END:STANDARD
END:VTIMEZONE
BEGIN:VEVENT
UID:f2e2fdd0cccf371f6ef644909536a014
SUMMARY:Elbtonal (Percussion)
URL:https://www.concerti.de/termine/elbtonal-percussion-stadttheater-aschaffenburg-895500/
DTSTART;TZID=Europe/Berlin:20260627T193000
DTEND;TZID=Europe/Berlin:20260627T213000
DESCRIPTION:Interpreten: Elbtonal (Percussion) \nProgramm: Werke von J. S. Bach\, Glass\, Radiohead u. a. \nhttps://www.concerti.de/termine/elbtonal-percussion-stadttheater-aschaffenburg-895500/
LOCATION:Stadttheater Aschaffenburg\, Schloßgasse 8\, 63739 Aschaffenburg
END:VEVENT
END:VCALENDAR