BEGIN:VCALENDAR
VERSION:2.0
PRODID:concerti//https://www.concerti.de
CALSCALE:GREGORIAN
BEGIN:VTIMEZONE
TZID:Europe/Berlin
X-LIC-LOCATION:Europe/Berlin
BEGIN:DAYLIGHT
TZOFFSETFROM:+0100
TZOFFSETTO:+0200
TZNAME:CEST
DTSTART:19700329T020000
RRULE:FREQ=YEARLY;BYMONTH=3;BYDAY=-1SU
END:DAYLIGHT
BEGIN:STANDARD
TZOFFSETFROM:+0200
TZOFFSETTO:+0100
TZNAME:CET
DTSTART:19701025T030000
RRULE:FREQ=YEARLY;BYMONTH=10;BYDAY=-1SU
END:STANDARD
END:VTIMEZONE
BEGIN:VEVENT
UID:cb010ef1891c7f6da602281bbc30edb9
SUMMARY:Alissa Margulis (Violine), Prague Royal Chamber Orchestra, Heiko Mathias Förster (Leitung)
URL:https://www.concerti.de/termine/alissa-margulis-violine-prague-royal-chamber-orchestra-heiko-mathias-foerster-leitung-stadthalle-am-schloss-895497/
DTSTART;TZID=Europe/Berlin:20260624T193000
DTEND;TZID=Europe/Berlin:20260624T213000
DESCRIPTION:Interpreten: Alissa Margulis (Violine)\, Prague Royal Chamber Orchestra\, Heiko Mathias Förster (Leitung) \nProgramm: Dvořák : Serenade E-Dur op. 22\, Saint-Saëns/Walter: Introduction et Rondo capriccioso op. 28 & Havanaise op. 83\, Grieg: Aus Holbergs Zeit op. 40 \nhttps://www.concerti.de/termine/alissa-margulis-violine-prague-royal-chamber-orchestra-heiko-mathias-foerster-leitung-stadthalle-am-schloss-895497/
LOCATION:Stadthalle am Schloss Aschaffenburg\, Schlossplatz 1\, 63739 Aschaffenburg
END:VEVENT
END:VCALENDAR