BEGIN:VCALENDAR
VERSION:2.0
PRODID:concerti//https://www.concerti.de
CALSCALE:GREGORIAN
BEGIN:VTIMEZONE
TZID:Europe/Berlin
X-LIC-LOCATION:Europe/Berlin
BEGIN:DAYLIGHT
TZOFFSETFROM:+0100
TZOFFSETTO:+0200
TZNAME:CEST
DTSTART:19700329T020000
RRULE:FREQ=YEARLY;BYMONTH=3;BYDAY=-1SU
END:DAYLIGHT
BEGIN:STANDARD
TZOFFSETFROM:+0200
TZOFFSETTO:+0100
TZNAME:CET
DTSTART:19701025T030000
RRULE:FREQ=YEARLY;BYMONTH=10;BYDAY=-1SU
END:STANDARD
END:VTIMEZONE
BEGIN:VEVENT
UID:5c4a34b7e2202cf2ea511e2ad75fb4ae
SUMMARY:Fibonacci Quartet
URL:https://www.concerti.de/termine/fibonacci-quartet-895494/
DTSTART;TZID=Europe/Berlin:20260613T193000
DTEND;TZID=Europe/Berlin:20260613T213000
DESCRIPTION:Interpreten: Fibonacci Quartet \nProgramm: Haydn: Streichquartett D-Dur op. 64/5\, Bartók: Streichquartett Nr. 5\, Schumann: Streichquartett Nr. 3 A-Dur op. 41/3 \nhttps://www.concerti.de/termine/fibonacci-quartet-895494/
LOCATION:Festsaal Park Schönbusch\, Aschaffenburg
END:VEVENT
END:VCALENDAR