BEGIN:VCALENDAR
VERSION:2.0
PRODID:concerti//https://www.concerti.de
CALSCALE:GREGORIAN
BEGIN:VTIMEZONE
TZID:Europe/Berlin
X-LIC-LOCATION:Europe/Berlin
BEGIN:DAYLIGHT
TZOFFSETFROM:+0100
TZOFFSETTO:+0200
TZNAME:CEST
DTSTART:19700329T020000
RRULE:FREQ=YEARLY;BYMONTH=3;BYDAY=-1SU
END:DAYLIGHT
BEGIN:STANDARD
TZOFFSETFROM:+0200
TZOFFSETTO:+0100
TZNAME:CET
DTSTART:19701025T030000
RRULE:FREQ=YEARLY;BYMONTH=10;BYDAY=-1SU
END:STANDARD
END:VTIMEZONE
BEGIN:VEVENT
UID:d66d9893051d93160571c962a814653e
SUMMARY:Ptah VI
URL:https://www.concerti.de/termine/ptah-vi-895239/
DTSTART;TZID=Europe/Berlin:20260712T190000
DTEND;TZID=Europe/Berlin:20260712T210000
DESCRIPTION:Interpreten: Davit Bassénz (Choreografie)\, Kieren Bofinger (Choreografie)\, Samantha Grammer (Choreografie)\, Dale Rhodes (Choreografie)\, Yanelis Rodriguez (Choreografie)\, Julia Schalitz (Choreografie)\, Harry Simmons (Choreografie)\, Mariya Tyurina (Choreografie)\, Igor Volkovskyy (Choreografie) \nhttps://www.concerti.de/termine/ptah-vi-895239/
LOCATION:Grillo-Theater\, Essen
END:VEVENT
END:VCALENDAR