BEGIN:VCALENDAR
VERSION:2.0
PRODID:concerti//https://www.concerti.de
CALSCALE:GREGORIAN
BEGIN:VTIMEZONE
TZID:Europe/Berlin
X-LIC-LOCATION:Europe/Berlin
BEGIN:DAYLIGHT
TZOFFSETFROM:+0100
TZOFFSETTO:+0200
TZNAME:CEST
DTSTART:19700329T020000
RRULE:FREQ=YEARLY;BYMONTH=3;BYDAY=-1SU
END:DAYLIGHT
BEGIN:STANDARD
TZOFFSETFROM:+0200
TZOFFSETTO:+0100
TZNAME:CET
DTSTART:19701025T030000
RRULE:FREQ=YEARLY;BYMONTH=10;BYDAY=-1SU
END:STANDARD
END:VTIMEZONE
BEGIN:VEVENT
UID:2e748ff9d6789cbeac0362f646477bc2
SUMMARY:Charlotte Steppes (Klavier), Gewandhaus-Quartett - Schumannfest Düsseldorf
URL:https://www.concerti.de/termine/charlotte-steppes-klavier-gewandhaus-quartett-895179/
DTSTART;TZID=Europe/Berlin:20260607T190000
DTEND;TZID=Europe/Berlin:20260607T210000
DESCRIPTION:Interpreten: Charlotte Steppes (Klavier)\, Gewandhaus-Quartett \nProgramm: Beethoven: Streichquartette c-Moll op. 18/4\, Es-Dur op. 74 & Klavierquintett Es-Dur op. 44 \nhttps://www.concerti.de/termine/charlotte-steppes-klavier-gewandhaus-quartett-895179/
LOCATION:Palais Wittgenstein\, Düsseldorf
END:VEVENT
END:VCALENDAR