BEGIN:VCALENDAR
VERSION:2.0
PRODID:concerti//https://www.concerti.de
CALSCALE:GREGORIAN
BEGIN:VTIMEZONE
TZID:Europe/Berlin
X-LIC-LOCATION:Europe/Berlin
BEGIN:DAYLIGHT
TZOFFSETFROM:+0100
TZOFFSETTO:+0200
TZNAME:CEST
DTSTART:19700329T020000
RRULE:FREQ=YEARLY;BYMONTH=3;BYDAY=-1SU
END:DAYLIGHT
BEGIN:STANDARD
TZOFFSETFROM:+0200
TZOFFSETTO:+0100
TZNAME:CET
DTSTART:19701025T030000
RRULE:FREQ=YEARLY;BYMONTH=10;BYDAY=-1SU
END:STANDARD
END:VTIMEZONE
BEGIN:VEVENT
UID:cf8e2c8fef8c61878edc25020fdf82ec
SUMMARY:Sunrise - Internationale Händel-Festspiele Göttingen
URL:https://www.concerti.de/termine/sunrise-895042/
DTSTART;TZID=Europe/Berlin:20260525T050000
DTEND;TZID=Europe/Berlin:20260525T070000
DESCRIPTION:Interpreten: Carlotta Dalia (Gitarre) \nProgramm: Werke von J. S. Bach\, Castelnuovo-Tedesco\, Tárrega & Turina \nhttps://www.concerti.de/termine/sunrise-895042/
LOCATION:Restaurant Kredo\, Göttingen
END:VEVENT
END:VCALENDAR