BEGIN:VCALENDAR
VERSION:2.0
PRODID:concerti//https://www.concerti.de
CALSCALE:GREGORIAN
BEGIN:VTIMEZONE
TZID:Europe/Berlin
X-LIC-LOCATION:Europe/Berlin
BEGIN:DAYLIGHT
TZOFFSETFROM:+0100
TZOFFSETTO:+0200
TZNAME:CEST
DTSTART:19700329T020000
RRULE:FREQ=YEARLY;BYMONTH=3;BYDAY=-1SU
END:DAYLIGHT
BEGIN:STANDARD
TZOFFSETFROM:+0200
TZOFFSETTO:+0100
TZNAME:CET
DTSTART:19701025T030000
RRULE:FREQ=YEARLY;BYMONTH=10;BYDAY=-1SU
END:STANDARD
END:VTIMEZONE
BEGIN:VEVENT
UID:e445604a5c694ffe8233089d72506cf2
SUMMARY:Telemann goes East - Internationale Händel-Festspiele Göttingen
URL:https://www.concerti.de/termine/telemann-goes-east-895023/
DTSTART;TZID=Europe/Berlin:20260523T140000
DTEND;TZID=Europe/Berlin:20260523T160000
DESCRIPTION:Interpreten: Erik Bosgraaf (Blockflöten)\, filoBarocco \nProgramm: Werke von Telemann \nhttps://www.concerti.de/termine/telemann-goes-east-895023/
LOCATION:Universitätskirche St. Nikolai\, Göttingen
END:VEVENT
END:VCALENDAR