BEGIN:VCALENDAR
VERSION:2.0
PRODID:concerti//https://www.concerti.de
CALSCALE:GREGORIAN
BEGIN:VTIMEZONE
TZID:Europe/Berlin
X-LIC-LOCATION:Europe/Berlin
BEGIN:DAYLIGHT
TZOFFSETFROM:+0100
TZOFFSETTO:+0200
TZNAME:CEST
DTSTART:19700329T020000
RRULE:FREQ=YEARLY;BYMONTH=3;BYDAY=-1SU
END:DAYLIGHT
BEGIN:STANDARD
TZOFFSETFROM:+0200
TZOFFSETTO:+0100
TZNAME:CET
DTSTART:19701025T030000
RRULE:FREQ=YEARLY;BYMONTH=10;BYDAY=-1SU
END:STANDARD
END:VTIMEZONE
BEGIN:VEVENT
UID:d8c1f292c7b6b1f5faf3357b52e2cb7e
SUMMARY:Händel jazzt! - Internationale Händel-Festspiele Göttingen
URL:https://www.concerti.de/termine/haendel-jazzt-895019/
DTSTART;TZID=Europe/Berlin:20260522T200000
DTEND;TZID=Europe/Berlin:20260522T220000
DESCRIPTION:Interpreten: Brita Rehsöft (Gesang)\, Ulli Orth (Saxofone\, Flöte & Klarinette)\, Martin Tschoepe (Viola da Gamba)\, Rainer Winch (Schlagwerk)\, Andreas Düker (Laute & Theorbe)\, Rolf Zielke (Klavier & Cembalo) \nProgramm: Werke von Händel\, J. S. Bach & Steffani \nhttps://www.concerti.de/termine/haendel-jazzt-895019/
LOCATION:Distribo Logistikzentrum\, Göttingen
END:VEVENT
END:VCALENDAR