BEGIN:VCALENDAR
VERSION:2.0
PRODID:concerti//https://www.concerti.de
CALSCALE:GREGORIAN
BEGIN:VTIMEZONE
TZID:Europe/Berlin
X-LIC-LOCATION:Europe/Berlin
BEGIN:DAYLIGHT
TZOFFSETFROM:+0100
TZOFFSETTO:+0200
TZNAME:CEST
DTSTART:19700329T020000
RRULE:FREQ=YEARLY;BYMONTH=3;BYDAY=-1SU
END:DAYLIGHT
BEGIN:STANDARD
TZOFFSETFROM:+0200
TZOFFSETTO:+0100
TZNAME:CET
DTSTART:19701025T030000
RRULE:FREQ=YEARLY;BYMONTH=10;BYDAY=-1SU
END:STANDARD
END:VTIMEZONE
BEGIN:VEVENT
UID:70f952a926b7f69a6aeaa36fee0de7b9
SUMMARY:Baroque Influencers - Internationale Händel-Festspiele Göttingen
URL:https://www.concerti.de/termine/baroque-influencers-georg-august-universitaet-goettingen-895016/
DTSTART;TZID=Europe/Berlin:20260522T190000
DTEND;TZID=Europe/Berlin:20260522T210000
DESCRIPTION:Interpreten: Bruno de Sá (Sopran)\, Dorothee Oberlinger (Blockflöten & Leitung)\, Ensemble 1700 \nProgramm: Scarlatti: Sinfonia avanti la Serenata „Clori\, Dorino e Amore“\, Più non m\'alletta e piace & Sinfonia aus „Il Giardino d’Amore“\, Händel: Konzert Nr. 5 F-Dur HWV 293\, Qui l’augel aus Aci\, Galatea e Polifemo HWV 72\, Come nube aus Agrippina HWV 6 & Tu del ciel ministro eletto aus „Il Trionfo del Tempo e del Disinganno“ HWV 46a\, Bononcini: Partir vorrei aus „Polifemo“\, Ombra mai fu aus „Xerse“ & Farfalletta che segue d’amor aus „Polifemo“\, Marcello: Oboenkonzert d-Moll\, Barsanti: Jonny Faa\, Corell/Geminiani: Sonate op. 5 Nr. 10 F-Dur \nhttps://www.concerti.de/termine/baroque-influencers-georg-august-universitaet-goettingen-895016/
LOCATION:Georg-August-Universität Göttingen\, Wilhelmsplatz 1\, 37073 Göttingen
END:VEVENT
END:VCALENDAR