BEGIN:VCALENDAR
VERSION:2.0
PRODID:concerti//https://www.concerti.de
CALSCALE:GREGORIAN
BEGIN:VTIMEZONE
TZID:Europe/Berlin
X-LIC-LOCATION:Europe/Berlin
BEGIN:DAYLIGHT
TZOFFSETFROM:+0100
TZOFFSETTO:+0200
TZNAME:CEST
DTSTART:19700329T020000
RRULE:FREQ=YEARLY;BYMONTH=3;BYDAY=-1SU
END:DAYLIGHT
BEGIN:STANDARD
TZOFFSETFROM:+0200
TZOFFSETTO:+0100
TZNAME:CET
DTSTART:19701025T030000
RRULE:FREQ=YEARLY;BYMONTH=10;BYDAY=-1SU
END:STANDARD
END:VTIMEZONE
BEGIN:VEVENT
UID:b01c2e9ff3c5ae60c79c0e07443dcab8
SUMMARY:Kontrapunkt - Internationale Händel-Festspiele Göttingen
URL:https://www.concerti.de/termine/kontrapunkt-895013/
DTSTART;TZID=Europe/Berlin:20260522T180000
DTEND;TZID=Europe/Berlin:20260522T200000
DESCRIPTION:Interpreten: Stefan Kordes (Orgel) \nProgramm: Messiaens: Les deux murailles d’eau\, J. S. Bach: Toccata und Fuge d-Moll\, Franck: Pièce héroïque u. a. \nhttps://www.concerti.de/termine/kontrapunkt-895013/
LOCATION:St. Jacobi-Kirche\, Göttingen
END:VEVENT
END:VCALENDAR