BEGIN:VCALENDAR
VERSION:2.0
PRODID:concerti//https://www.concerti.de
CALSCALE:GREGORIAN
BEGIN:VTIMEZONE
TZID:Europe/Berlin
X-LIC-LOCATION:Europe/Berlin
BEGIN:DAYLIGHT
TZOFFSETFROM:+0100
TZOFFSETTO:+0200
TZNAME:CEST
DTSTART:19700329T020000
RRULE:FREQ=YEARLY;BYMONTH=3;BYDAY=-1SU
END:DAYLIGHT
BEGIN:STANDARD
TZOFFSETFROM:+0200
TZOFFSETTO:+0100
TZNAME:CET
DTSTART:19701025T030000
RRULE:FREQ=YEARLY;BYMONTH=10;BYDAY=-1SU
END:STANDARD
END:VTIMEZONE
BEGIN:VEVENT
UID:02db4bf4716289c891fa2dca70891c39
SUMMARY:Martin Begemann (Carillon) - Internationale Händel-Festspiele Göttingen: Good Morning, George!
URL:https://www.concerti.de/termine/martin-begemann-carillon-894946/
DTSTART;TZID=Europe/Berlin:20260520T111500
DTEND;TZID=Europe/Berlin:20260520T131500
DESCRIPTION:Interpreten: Martin Begemann (Carillon) \nProgramm: Werke von Händel u. a. \nhttps://www.concerti.de/termine/martin-begemann-carillon-894946/
LOCATION:St. Jacobi-Kirche\, Göttingen
END:VEVENT
END:VCALENDAR