BEGIN:VCALENDAR
VERSION:2.0
PRODID:concerti//https://www.concerti.de
CALSCALE:GREGORIAN
BEGIN:VTIMEZONE
TZID:Europe/Berlin
X-LIC-LOCATION:Europe/Berlin
BEGIN:DAYLIGHT
TZOFFSETFROM:+0100
TZOFFSETTO:+0200
TZNAME:CEST
DTSTART:19700329T020000
RRULE:FREQ=YEARLY;BYMONTH=3;BYDAY=-1SU
END:DAYLIGHT
BEGIN:STANDARD
TZOFFSETFROM:+0200
TZOFFSETTO:+0100
TZNAME:CET
DTSTART:19701025T030000
RRULE:FREQ=YEARLY;BYMONTH=10;BYDAY=-1SU
END:STANDARD
END:VTIMEZONE
BEGIN:VEVENT
UID:6016fa4fbfbf47ee7c8df52af5c52ff5
SUMMARY:HTWK Orchester, Frédéric Tschumi (Leitung)
URL:https://www.concerti.de/termine/htwk-orchester-frederic-tschumi-leitung-gewandhaus-leipzig-894884/
DTSTART;TZID=Europe/Berlin:20260627T190000
DTEND;TZID=Europe/Berlin:20260627T210000
DESCRIPTION:Interpreten: HTWK Orchester\, Frédéric Tschumi (Leitung) \nProgramm: Werke von Tschaikowsky\, Dvořák & Grieg \nhttps://www.concerti.de/termine/htwk-orchester-frederic-tschumi-leitung-gewandhaus-leipzig-894884/
LOCATION:Gewandhaus Leipzig\, Augustusplatz 8\, 04109 Leipzig
END:VEVENT
END:VCALENDAR