BEGIN:VCALENDAR
VERSION:2.0
PRODID:concerti//https://www.concerti.de
CALSCALE:GREGORIAN
BEGIN:VTIMEZONE
TZID:Europe/Berlin
X-LIC-LOCATION:Europe/Berlin
BEGIN:DAYLIGHT
TZOFFSETFROM:+0100
TZOFFSETTO:+0200
TZNAME:CEST
DTSTART:19700329T020000
RRULE:FREQ=YEARLY;BYMONTH=3;BYDAY=-1SU
END:DAYLIGHT
BEGIN:STANDARD
TZOFFSETFROM:+0200
TZOFFSETTO:+0100
TZNAME:CET
DTSTART:19701025T030000
RRULE:FREQ=YEARLY;BYMONTH=10;BYDAY=-1SU
END:STANDARD
END:VTIMEZONE
BEGIN:VEVENT
UID:e9f814aba2727ee5f529505aa53189d6
SUMMARY:Jugend komponiert Sachsen
URL:https://www.concerti.de/termine/jugend-komponiert-sachsen-thomaskirche-leipzig-894759/
DTSTART;TZID=Europe/Berlin:20260606T190000
DTEND;TZID=Europe/Berlin:20260606T210000
DESCRIPTION:Interpreten: musica viva\, Aristides Strongylis (Leitung) \nProgramm: Werke von Strongylis\, Villarroel\, Forbes u. a. \nhttps://www.concerti.de/termine/jugend-komponiert-sachsen-thomaskirche-leipzig-894759/
LOCATION:Thomaskirche Leipzig\, Thomaskirchhof 18\, 04109 Leipzig
END:VEVENT
END:VCALENDAR