BEGIN:VCALENDAR
VERSION:2.0
PRODID:concerti//https://www.concerti.de
CALSCALE:GREGORIAN
BEGIN:VTIMEZONE
TZID:Europe/Berlin
X-LIC-LOCATION:Europe/Berlin
BEGIN:DAYLIGHT
TZOFFSETFROM:+0100
TZOFFSETTO:+0200
TZNAME:CEST
DTSTART:19700329T020000
RRULE:FREQ=YEARLY;BYMONTH=3;BYDAY=-1SU
END:DAYLIGHT
BEGIN:STANDARD
TZOFFSETFROM:+0200
TZOFFSETTO:+0100
TZNAME:CET
DTSTART:19701025T030000
RRULE:FREQ=YEARLY;BYMONTH=10;BYDAY=-1SU
END:STANDARD
END:VTIMEZONE
BEGIN:VEVENT
UID:9546038c2e60a6f9d96e35998c33fc4a
SUMMARY:Klänge der Hoffnung
URL:https://www.concerti.de/termine/klaenge-der-hoffnung-gewandhaus-leipzig-894742/
DTSTART;TZID=Europe/Berlin:20260603T190000
DTEND;TZID=Europe/Berlin:20260603T210000
DESCRIPTION:Interpreten: Karolina Trybala (Gesang)\, Klänge der Hoffnung Orchester\, Banda Comunale\, ChorAlle\, Kinder- und Jugendchor der Kirchgemeinde im Leipziger Süden\, Leipziger Synagogalchor\, Ali Pirabi (Leitung)\, Tilmann Löser (Leitung) u. a. \nhttps://www.concerti.de/termine/klaenge-der-hoffnung-gewandhaus-leipzig-894742/
LOCATION:Gewandhaus Leipzig\, Augustusplatz 8\, 04109 Leipzig
END:VEVENT
END:VCALENDAR