BEGIN:VCALENDAR
VERSION:2.0
PRODID:concerti//https://www.concerti.de
CALSCALE:GREGORIAN
BEGIN:VTIMEZONE
TZID:Europe/Berlin
X-LIC-LOCATION:Europe/Berlin
BEGIN:DAYLIGHT
TZOFFSETFROM:+0100
TZOFFSETTO:+0200
TZNAME:CEST
DTSTART:19700329T020000
RRULE:FREQ=YEARLY;BYMONTH=3;BYDAY=-1SU
END:DAYLIGHT
BEGIN:STANDARD
TZOFFSETFROM:+0200
TZOFFSETTO:+0100
TZNAME:CET
DTSTART:19701025T030000
RRULE:FREQ=YEARLY;BYMONTH=10;BYDAY=-1SU
END:STANDARD
END:VTIMEZONE
BEGIN:VEVENT
UID:a9374ddaa8b792fd80d0e96f823ffb8f
SUMMARY:Sommerkonzert
URL:https://www.concerti.de/termine/sommerkonzert-kammermusiksaal-berlin-894695/
DTSTART;TZID=Europe/Berlin:20260615T190000
DTEND;TZID=Europe/Berlin:20260615T210000
DESCRIPTION:Interpreten: Chöre\, Bigbands\, Orchester und Tanzensembles des Heinz-Berggruen-Gymnasiums\, Sarah Dietzfelbinger (Leitung)\, Claudia Rocca (Leitung)\, Holger Schaeffer (Leitung)\, Anna Stark (Leitung)\, Josephine Wahrenburg (Leitung) \nhttps://www.concerti.de/termine/sommerkonzert-kammermusiksaal-berlin-894695/
LOCATION:Kammermusiksaal Berlin\, Herbert-von-Karajan-Straße 1\, 10785 Berlin
END:VEVENT
END:VCALENDAR