BEGIN:VCALENDAR
VERSION:2.0
PRODID:concerti//https://www.concerti.de
CALSCALE:GREGORIAN
BEGIN:VTIMEZONE
TZID:Europe/Berlin
X-LIC-LOCATION:Europe/Berlin
BEGIN:DAYLIGHT
TZOFFSETFROM:+0100
TZOFFSETTO:+0200
TZNAME:CEST
DTSTART:19700329T020000
RRULE:FREQ=YEARLY;BYMONTH=3;BYDAY=-1SU
END:DAYLIGHT
BEGIN:STANDARD
TZOFFSETFROM:+0200
TZOFFSETTO:+0100
TZNAME:CET
DTSTART:19701025T030000
RRULE:FREQ=YEARLY;BYMONTH=10;BYDAY=-1SU
END:STANDARD
END:VTIMEZONE
BEGIN:VEVENT
UID:f78eb07c9a080df7d382aa5a364671cb
SUMMARY:Valdemar Wenzel Most (Klavier), Publikumsorchester Konzerthaus Berlin, Dirk Wucherpfennig (Leitung)
URL:https://www.concerti.de/termine/valdemar-wenzel-most-klavier-publikumsorchester-konzerthaus-berlin-dirk-wucherpfennig-leitung-konzerthaus-berlin-894669/
DTSTART;TZID=Europe/Berlin:20260630T190000
DTEND;TZID=Europe/Berlin:20260630T210000
DESCRIPTION:Interpreten: Valdemar Wenzel Most (Klavier)\, Publikumsorchester Konzerthaus Berlin\, Dirk Wucherpfennig (Leitung) \nProgramm: Rachmaninow: Klavierkonzert Nr. 3 d-Moll op. 30\, Borodin: Sinfonie Nr. 2 h-Moll op. 5 \nhttps://www.concerti.de/termine/valdemar-wenzel-most-klavier-publikumsorchester-konzerthaus-berlin-dirk-wucherpfennig-leitung-konzerthaus-berlin-894669/
LOCATION:Konzerthaus Berlin\, Gendarmenmarkt 2\, 10117 Berlin
END:VEVENT
END:VCALENDAR