BEGIN:VCALENDAR
VERSION:2.0
PRODID:concerti//https://www.concerti.de
CALSCALE:GREGORIAN
BEGIN:VTIMEZONE
TZID:Europe/Berlin
X-LIC-LOCATION:Europe/Berlin
BEGIN:DAYLIGHT
TZOFFSETFROM:+0100
TZOFFSETTO:+0200
TZNAME:CEST
DTSTART:19700329T020000
RRULE:FREQ=YEARLY;BYMONTH=3;BYDAY=-1SU
END:DAYLIGHT
BEGIN:STANDARD
TZOFFSETFROM:+0200
TZOFFSETTO:+0100
TZNAME:CET
DTSTART:19701025T030000
RRULE:FREQ=YEARLY;BYMONTH=10;BYDAY=-1SU
END:STANDARD
END:VTIMEZONE
BEGIN:VEVENT
UID:59e7c8597d19fd63170276154e5d7d81
SUMMARY:Maminova: Teenie Times - Jugend-Musiktheater
URL:https://www.concerti.de/termine/maminova-teenie-times-deutsche-oper-894626/
DTSTART;TZID=Europe/Berlin:20260626T190000
DTEND;TZID=Europe/Berlin:20260626T210000
DESCRIPTION:Interpreten: Berliner Jugendliche \nhttps://www.concerti.de/termine/maminova-teenie-times-deutsche-oper-894626/
LOCATION:Deutsche Oper Berlin\, Bismarckstr. 35\, 10627 Berlin
END:VEVENT
END:VCALENDAR