BEGIN:VCALENDAR
VERSION:2.0
PRODID:concerti//https://www.concerti.de
CALSCALE:GREGORIAN
BEGIN:VTIMEZONE
TZID:Europe/Berlin
X-LIC-LOCATION:Europe/Berlin
BEGIN:DAYLIGHT
TZOFFSETFROM:+0100
TZOFFSETTO:+0200
TZNAME:CEST
DTSTART:19700329T020000
RRULE:FREQ=YEARLY;BYMONTH=3;BYDAY=-1SU
END:DAYLIGHT
BEGIN:STANDARD
TZOFFSETFROM:+0200
TZOFFSETTO:+0100
TZNAME:CET
DTSTART:19701025T030000
RRULE:FREQ=YEARLY;BYMONTH=10;BYDAY=-1SU
END:STANDARD
END:VTIMEZONE
BEGIN:VEVENT
UID:ddca500889d7a9a449ad021741cc79f3
SUMMARY:Christina Bock (Mezzosopran), Jobst Schneiderat (Klavier) - Richard-Strauss-Tage
URL:https://www.concerti.de/termine/christina-bock-mezzosopran-jobst-schneiderat-klavier-894587/
DTSTART;TZID=Europe/Berlin:20260607T180000
DTEND;TZID=Europe/Berlin:20260607T200000
DESCRIPTION:Interpreten: Christina Bock (Mezzosopran)\, Jobst Schneiderat (Klavier) \nProgramm: Werke von R. Strauss \nhttps://www.concerti.de/termine/christina-bock-mezzosopran-jobst-schneiderat-klavier-894587/
LOCATION:Kongresshaus\, Garmisch-Partenkirchen
END:VEVENT
END:VCALENDAR