BEGIN:VCALENDAR
VERSION:2.0
PRODID:concerti//https://www.concerti.de
CALSCALE:GREGORIAN
BEGIN:VTIMEZONE
TZID:Europe/Berlin
X-LIC-LOCATION:Europe/Berlin
BEGIN:DAYLIGHT
TZOFFSETFROM:+0100
TZOFFSETTO:+0200
TZNAME:CEST
DTSTART:19700329T020000
RRULE:FREQ=YEARLY;BYMONTH=3;BYDAY=-1SU
END:DAYLIGHT
BEGIN:STANDARD
TZOFFSETFROM:+0200
TZOFFSETTO:+0100
TZNAME:CET
DTSTART:19701025T030000
RRULE:FREQ=YEARLY;BYMONTH=10;BYDAY=-1SU
END:STANDARD
END:VTIMEZONE
BEGIN:VEVENT
UID:9dcc8a35f3e7023ca61cf1d7b15b4f25
SUMMARY:Julian Riem (Klavier), Nymphenburger Streichersolisten - Richard-Strauss-Tage
URL:https://www.concerti.de/termine/julian-riem-klavier-nymphenburger-streichersolisten-894581/
DTSTART;TZID=Europe/Berlin:20260606T190000
DTEND;TZID=Europe/Berlin:20260606T210000
DESCRIPTION:Interpreten: Julian Riem (Klavier)\, Nymphenburger Streichersolisten \nProgramm: Werke von Mozart\, R. Strauss\, Humperdinck\, Thuille & Goetz \nhttps://www.concerti.de/termine/julian-riem-klavier-nymphenburger-streichersolisten-894581/
LOCATION:Kongresshaus\, Garmisch-Partenkirchen
END:VEVENT
END:VCALENDAR