BEGIN:VCALENDAR
VERSION:2.0
PRODID:concerti//https://www.concerti.de
CALSCALE:GREGORIAN
BEGIN:VTIMEZONE
TZID:Europe/Berlin
X-LIC-LOCATION:Europe/Berlin
BEGIN:DAYLIGHT
TZOFFSETFROM:+0100
TZOFFSETTO:+0200
TZNAME:CEST
DTSTART:19700329T020000
RRULE:FREQ=YEARLY;BYMONTH=3;BYDAY=-1SU
END:DAYLIGHT
BEGIN:STANDARD
TZOFFSETFROM:+0200
TZOFFSETTO:+0100
TZNAME:CET
DTSTART:19701025T030000
RRULE:FREQ=YEARLY;BYMONTH=10;BYDAY=-1SU
END:STANDARD
END:VTIMEZONE
BEGIN:VEVENT
UID:337825f867771e3ceb9d9453a9c28663
SUMMARY:Quatuor Elmire - Nymphenburger Sommer
URL:https://www.concerti.de/termine/quatuor-elmire-residenz-muenchen-894578/
DTSTART;TZID=Europe/Berlin:20260701T193000
DTEND;TZID=Europe/Berlin:20260701T213000
DESCRIPTION:Interpreten: Quatuor Elmire \nProgramm: Haydn: Streichquartett D-Dur op. 76/5\, Ravel: Streichquartett F-Dur\, Beethoven: Streichquartett C-Dur op. 59/3 \nhttps://www.concerti.de/termine/quatuor-elmire-residenz-muenchen-894578/
LOCATION:Residenz München\, Residenzstraße 1\, 80333 München
END:VEVENT
END:VCALENDAR