BEGIN:VCALENDAR
VERSION:2.0
PRODID:concerti//https://www.concerti.de
CALSCALE:GREGORIAN
BEGIN:VTIMEZONE
TZID:Europe/Berlin
X-LIC-LOCATION:Europe/Berlin
BEGIN:DAYLIGHT
TZOFFSETFROM:+0100
TZOFFSETTO:+0200
TZNAME:CEST
DTSTART:19700329T020000
RRULE:FREQ=YEARLY;BYMONTH=3;BYDAY=-1SU
END:DAYLIGHT
BEGIN:STANDARD
TZOFFSETFROM:+0200
TZOFFSETTO:+0100
TZNAME:CET
DTSTART:19701025T030000
RRULE:FREQ=YEARLY;BYMONTH=10;BYDAY=-1SU
END:STANDARD
END:VTIMEZONE
BEGIN:VEVENT
UID:95fb91d5226ab066b52aa2d73ac77fb2
SUMMARY:Arabella Steinbacher (Violine), Yibai Chen (Violoncello), Vivien Walser (Klavier) - Nymphenburger Sommer
URL:https://www.concerti.de/termine/arabella-steinbacher-violine-yibai-chen-violoncello-vivien-walser-klavier-residenz-muenchen-894563/
DTSTART;TZID=Europe/Berlin:20260617T193000
DTEND;TZID=Europe/Berlin:20260617T213000
DESCRIPTION:Interpreten: Arabella Steinbacher (Violine)\, Yibai Chen (Violoncello)\, Vivien Walser (Klavier) \nProgramm: Mozart: Klaviertrio G-Dur KV 564\, Brahms: Violinsonate Nr. 2 A-Dur op. 100 & Klaviertrio Nr. 1 H-Dur op. 8\, Schumann: Fantasiestücke op. 74 \nhttps://www.concerti.de/termine/arabella-steinbacher-violine-yibai-chen-violoncello-vivien-walser-klavier-residenz-muenchen-894563/
LOCATION:Residenz München\, Residenzstraße 1\, 80333 München
END:VEVENT
END:VCALENDAR