BEGIN:VCALENDAR
VERSION:2.0
PRODID:concerti//https://www.concerti.de
CALSCALE:GREGORIAN
BEGIN:VTIMEZONE
TZID:Europe/Berlin
X-LIC-LOCATION:Europe/Berlin
BEGIN:DAYLIGHT
TZOFFSETFROM:+0100
TZOFFSETTO:+0200
TZNAME:CEST
DTSTART:19700329T020000
RRULE:FREQ=YEARLY;BYMONTH=3;BYDAY=-1SU
END:DAYLIGHT
BEGIN:STANDARD
TZOFFSETFROM:+0200
TZOFFSETTO:+0100
TZNAME:CET
DTSTART:19701025T030000
RRULE:FREQ=YEARLY;BYMONTH=10;BYDAY=-1SU
END:STANDARD
END:VTIMEZONE
BEGIN:VEVENT
UID:0ff083695aaa41ea5f8239178144582b
SUMMARY:Anna Lucia Richter (Mezzosopran), Ammiel Bushakevitz (Klavier) - Nymphenburger Sommer
URL:https://www.concerti.de/termine/anna-lucia-richter-mezzosopran-ammiel-bushakevitz-klavier-residenz-muenchen-894554/
DTSTART;TZID=Europe/Berlin:20260611T193000
DTEND;TZID=Europe/Berlin:20260611T213000
DESCRIPTION:Interpreten: Anna Lucia Richter (Mezzosopran)\, Ammiel Bushakevitz (Klavier) \nProgramm: Werke von Mendelssohn\, Schubert\, Mahler & Brahms \nhttps://www.concerti.de/termine/anna-lucia-richter-mezzosopran-ammiel-bushakevitz-klavier-residenz-muenchen-894554/
LOCATION:Residenz München\, Residenzstraße 1\, 80333 München
END:VEVENT
END:VCALENDAR