BEGIN:VCALENDAR
VERSION:2.0
PRODID:concerti//https://www.concerti.de
CALSCALE:GREGORIAN
BEGIN:VTIMEZONE
TZID:Europe/Berlin
X-LIC-LOCATION:Europe/Berlin
BEGIN:DAYLIGHT
TZOFFSETFROM:+0100
TZOFFSETTO:+0200
TZNAME:CEST
DTSTART:19700329T020000
RRULE:FREQ=YEARLY;BYMONTH=3;BYDAY=-1SU
END:DAYLIGHT
BEGIN:STANDARD
TZOFFSETFROM:+0200
TZOFFSETTO:+0100
TZNAME:CET
DTSTART:19701025T030000
RRULE:FREQ=YEARLY;BYMONTH=10;BYDAY=-1SU
END:STANDARD
END:VTIMEZONE
BEGIN:VEVENT
UID:16f1dbbfe7094b52c83cc4f55c95eb66
SUMMARY:Bizet: Carmen
URL:https://www.concerti.de/termine/bizet-carmen-theater-im-martini-park-767933/
DTSTART;TZID=Europe/Berlin:20260614T180000
DTEND;TZID=Europe/Berlin:20260614T200000
DESCRIPTION:Interpreten: Natalya Boeva (Carmen)\, Xavier Moreno (Don José)\, Jihyun Cecilia Lee (Micaëla)\, Shin Yeo (Escamillo)\, Domonkos Héja (Leitung)\, Aileen Schneider (Regie) \nhttps://www.concerti.de/termine/bizet-carmen-theater-im-martini-park-767933/
LOCATION:Staatstheater Augsburg (martini-Park)\, Provinostraße 52\, 86153 Augsburg
END:VEVENT
END:VCALENDAR