BEGIN:VCALENDAR
VERSION:2.0
PRODID:concerti//https://www.concerti.de
CALSCALE:GREGORIAN
BEGIN:VTIMEZONE
TZID:Europe/Berlin
X-LIC-LOCATION:Europe/Berlin
BEGIN:DAYLIGHT
TZOFFSETFROM:+0100
TZOFFSETTO:+0200
TZNAME:CEST
DTSTART:19700329T020000
RRULE:FREQ=YEARLY;BYMONTH=3;BYDAY=-1SU
END:DAYLIGHT
BEGIN:STANDARD
TZOFFSETFROM:+0200
TZOFFSETTO:+0100
TZNAME:CET
DTSTART:19701025T030000
RRULE:FREQ=YEARLY;BYMONTH=10;BYDAY=-1SU
END:STANDARD
END:VTIMEZONE
BEGIN:VEVENT
UID:d819cbfedc08154d1345cdc3d7698d3c
SUMMARY:Pieces of Myself, Vol II
URL:https://www.concerti.de/termine/pieces-of-myself-vol-ii-annenkirche-dresden-894479/
DTSTART;TZID=Europe/Berlin:20260727T193000
DTEND;TZID=Europe/Berlin:20260727T213000
DESCRIPTION:Interpreten: Art\'n\'Voices \nhttps://www.concerti.de/termine/pieces-of-myself-vol-ii-annenkirche-dresden-894479/
LOCATION:Annenkirche\, Schwarzenberg
END:VEVENT
END:VCALENDAR