BEGIN:VCALENDAR
VERSION:2.0
PRODID:concerti//https://www.concerti.de
CALSCALE:GREGORIAN
BEGIN:VTIMEZONE
TZID:Europe/Berlin
X-LIC-LOCATION:Europe/Berlin
BEGIN:DAYLIGHT
TZOFFSETFROM:+0100
TZOFFSETTO:+0200
TZNAME:CEST
DTSTART:19700329T020000
RRULE:FREQ=YEARLY;BYMONTH=3;BYDAY=-1SU
END:DAYLIGHT
BEGIN:STANDARD
TZOFFSETFROM:+0200
TZOFFSETTO:+0100
TZNAME:CET
DTSTART:19701025T030000
RRULE:FREQ=YEARLY;BYMONTH=10;BYDAY=-1SU
END:STANDARD
END:VTIMEZONE
BEGIN:VEVENT
UID:b6c540122970f6aaf49f193591f2fdfd
SUMMARY:Zefira Valova (Violine), Tuomo Suni (Violine), Pierre Hantaï (Cembalo), Aapo Häkkinen (Cembalo), Helsinki Baroque Orchestra - Bachfest Leipzig
URL:https://www.concerti.de/termine/zefira-valova-violine-tuomo-suni-violine-pierre-hantai-cembalo-aapo-haekkinen-cembalo-helsinki-baroque-orchestra-paulinum-aula-und-universitaetskirche-st-pauli-894457/
DTSTART;TZID=Europe/Berlin:20260621T150000
DTEND;TZID=Europe/Berlin:20260621T170000
DESCRIPTION:Interpreten: Zefira Valova (Violine)\, Tuomo Suni (Violine)\, Pierre Hantaï (Cembalo)\, Aapo Häkkinen (Cembalo)\, Helsinki Baroque Orchestra \nProgramm: J. S. Bach: Brandenburgisches Konzert Nr. 5 D-Dur BWV 1050\, Konzerte c-Moll BWV 1060\, C-Dur 1061 & d-Moll BWV 1043\, W.F. Bach: Konzert F-Dur \nhttps://www.concerti.de/termine/zefira-valova-violine-tuomo-suni-violine-pierre-hantai-cembalo-aapo-haekkinen-cembalo-helsinki-baroque-orchestra-paulinum-aula-und-universitaetskirche-st-pauli-894457/
LOCATION:Paulinum – Aula und Universitätskirche St. Pauli\, Augustusplatz\, 04109 Leipzig
END:VEVENT
END:VCALENDAR