BEGIN:VCALENDAR
VERSION:2.0
PRODID:concerti//https://www.concerti.de
CALSCALE:GREGORIAN
BEGIN:VTIMEZONE
TZID:Europe/Berlin
X-LIC-LOCATION:Europe/Berlin
BEGIN:DAYLIGHT
TZOFFSETFROM:+0100
TZOFFSETTO:+0200
TZNAME:CEST
DTSTART:19700329T020000
RRULE:FREQ=YEARLY;BYMONTH=3;BYDAY=-1SU
END:DAYLIGHT
BEGIN:STANDARD
TZOFFSETFROM:+0200
TZOFFSETTO:+0100
TZNAME:CET
DTSTART:19701025T030000
RRULE:FREQ=YEARLY;BYMONTH=10;BYDAY=-1SU
END:STANDARD
END:VTIMEZONE
BEGIN:VEVENT
UID:b6795e76af1b9f3f364dfcfb80356b01
SUMMARY:Verità Baroque - Bachfest Leipzig
URL:https://www.concerti.de/termine/verita-baroque-894454/
DTSTART;TZID=Europe/Berlin:20260621T113000
DTEND;TZID=Europe/Berlin:20260621T133000
DESCRIPTION:Interpreten: Verità Baroque \nProgramm: C. P. E. Bach: Sonate d-Moll\, Schaffrath\, Sonate c-Moll\, J. G. Goldberg: Sonate C-Dur\, J. S. Bach: Sonate G-Dur BWV 1038\, Barcellini: Ouverture „La Tempesta“\, Antoniotto: Sonate d-Moll\, Quantz: Sonate a-Moll \nhttps://www.concerti.de/termine/verita-baroque-894454/
LOCATION:Alte Börse\, Leipzig
END:VEVENT
END:VCALENDAR