BEGIN:VCALENDAR
VERSION:2.0
PRODID:concerti//https://www.concerti.de
CALSCALE:GREGORIAN
BEGIN:VTIMEZONE
TZID:Europe/Berlin
X-LIC-LOCATION:Europe/Berlin
BEGIN:DAYLIGHT
TZOFFSETFROM:+0100
TZOFFSETTO:+0200
TZNAME:CEST
DTSTART:19700329T020000
RRULE:FREQ=YEARLY;BYMONTH=3;BYDAY=-1SU
END:DAYLIGHT
BEGIN:STANDARD
TZOFFSETFROM:+0200
TZOFFSETTO:+0100
TZNAME:CET
DTSTART:19701025T030000
RRULE:FREQ=YEARLY;BYMONTH=10;BYDAY=-1SU
END:STANDARD
END:VTIMEZONE
BEGIN:VEVENT
UID:01a65dbe4e9bb557a575d6dfdeb02c63
SUMMARY:Isabelle Faust (Violine), Kristian Bezuidenhout (Cembalo) - Bachfest Leipzig
URL:https://www.concerti.de/termine/isabelle-faust-violine-kristian-bezuidenhout-cembalo-894414/
DTSTART;TZID=Europe/Berlin:20260620T223000
DTEND;TZID=Europe/Berlin:20260621T003000
DESCRIPTION:Interpreten: Isabelle Faust (Violine)\, Kristian Bezuidenhout (Cembalo) \nProgramm: J. S. Bach: Violinsonaten c-Moll BWV 1017\, f-Moll BWV 1018 & G-Dur BWV 1019 \nhttps://www.concerti.de/termine/isabelle-faust-violine-kristian-bezuidenhout-cembalo-894414/
LOCATION:Evangelisch Reformierte Kirche\, Leipzig
END:VEVENT
END:VCALENDAR