BEGIN:VCALENDAR
VERSION:2.0
PRODID:concerti//https://www.concerti.de
CALSCALE:GREGORIAN
BEGIN:VTIMEZONE
TZID:Europe/Berlin
X-LIC-LOCATION:Europe/Berlin
BEGIN:DAYLIGHT
TZOFFSETFROM:+0100
TZOFFSETTO:+0200
TZNAME:CEST
DTSTART:19700329T020000
RRULE:FREQ=YEARLY;BYMONTH=3;BYDAY=-1SU
END:DAYLIGHT
BEGIN:STANDARD
TZOFFSETFROM:+0200
TZOFFSETTO:+0100
TZNAME:CET
DTSTART:19701025T030000
RRULE:FREQ=YEARLY;BYMONTH=10;BYDAY=-1SU
END:STANDARD
END:VTIMEZONE
BEGIN:VEVENT
UID:a389bb9927a87354d653a9be8aed4175
SUMMARY:Viola Blache (Sopran), Susanne Langner (Alt), Robert Pohlers (Tenor), Tobias Ay (Bass), Johannes Lang (Orgel), BACH – We-Are-FAMILY-Chor, Lufthansa Orchester, Rudolf Lutz (Leitung) - Bachfest Leipzig
URL:https://www.concerti.de/termine/viola-blache-sopran-susanne-langner-alt-robert-pohlers-tenor-tobias-ay-bass-johannes-lang-orgel-bach-we-are-family-chor-lufthansa-orchester-rudolf-lutz-leitung-thomaskirch-894431/
DTSTART;TZID=Europe/Berlin:20260620T150000
DTEND;TZID=Europe/Berlin:20260620T170000
DESCRIPTION:Interpreten: Viola Blache (Sopran)\, Susanne Langner (Alt)\, Robert Pohlers (Tenor)\, Tobias Ay (Bass)\, Johannes Lang (Orgel)\, BACH – We-Are-FAMILY-Chor\, Lufthansa Orchester\, Rudolf Lutz (Leitung) \nProgramm: J. S. Bach: Präludium und Fuge G-Dur BWV 541.1 & Ich hatte viel Bekümmernis BWV 21 \nhttps://www.concerti.de/termine/viola-blache-sopran-susanne-langner-alt-robert-pohlers-tenor-tobias-ay-bass-johannes-lang-orgel-bach-we-are-family-chor-lufthansa-orchester-rudolf-lutz-leitung-thomaskirch-894431/
LOCATION:Thomaskirche Leipzig\, Thomaskirchhof 18\, 04109 Leipzig
END:VEVENT
END:VCALENDAR