BEGIN:VCALENDAR
VERSION:2.0
PRODID:concerti//https://www.concerti.de
CALSCALE:GREGORIAN
BEGIN:VTIMEZONE
TZID:Europe/Berlin
X-LIC-LOCATION:Europe/Berlin
BEGIN:DAYLIGHT
TZOFFSETFROM:+0100
TZOFFSETTO:+0200
TZNAME:CEST
DTSTART:19700329T020000
RRULE:FREQ=YEARLY;BYMONTH=3;BYDAY=-1SU
END:DAYLIGHT
BEGIN:STANDARD
TZOFFSETFROM:+0200
TZOFFSETTO:+0100
TZNAME:CET
DTSTART:19701025T030000
RRULE:FREQ=YEARLY;BYMONTH=10;BYDAY=-1SU
END:STANDARD
END:VTIMEZONE
BEGIN:VEVENT
UID:0fcd28acd0ddbe3b28797b640ad8f659
SUMMARY:Katharina Schneider (Sopran), Leonhard Geiger (Bass), Markus Kaufmann (Orgel), Bachchor Würzburg, Collegium Lipsiensis, Hae-Kyung Jung (Leitung) - Bachfest Leipzig
URL:https://www.concerti.de/termine/katharina-schneider-sopran-leonhard-geiger-bass-markus-kaufmann-orgel-bachchor-wuerzburg-collegium-lipsiensis-hae-kyung-jung-leitung-894418/
DTSTART;TZID=Europe/Berlin:20260620T093000
DTEND;TZID=Europe/Berlin:20260620T113000
DESCRIPTION:Interpreten: Katharina Schneider (Sopran)\, Leonhard Geiger (Bass)\, Markus Kaufmann (Orgel)\, Bachchor Würzburg\, Collegium Lipsiensis\, Hae-Kyung Jung (Leitung) \nProgramm: Stobaeus: Such\, wer da will\, ein ander Ziel\, Mendelssohn: Richte mich\, Gott op. 78/2\, J. S. Bach: Wer sich selbst erhöhet\, der soll erniedriget werden BWV 47 & Jesu\, meine Freude BWV 227 \nhttps://www.concerti.de/termine/katharina-schneider-sopran-leonhard-geiger-bass-markus-kaufmann-orgel-bachchor-wuerzburg-collegium-lipsiensis-hae-kyung-jung-leitung-894418/
LOCATION:Nikolaikirche\, Leipzig
END:VEVENT
END:VCALENDAR