BEGIN:VCALENDAR
VERSION:2.0
PRODID:concerti//https://www.concerti.de
CALSCALE:GREGORIAN
BEGIN:VTIMEZONE
TZID:Europe/Berlin
X-LIC-LOCATION:Europe/Berlin
BEGIN:DAYLIGHT
TZOFFSETFROM:+0100
TZOFFSETTO:+0200
TZNAME:CEST
DTSTART:19700329T020000
RRULE:FREQ=YEARLY;BYMONTH=3;BYDAY=-1SU
END:DAYLIGHT
BEGIN:STANDARD
TZOFFSETFROM:+0200
TZOFFSETTO:+0100
TZNAME:CET
DTSTART:19701025T030000
RRULE:FREQ=YEARLY;BYMONTH=10;BYDAY=-1SU
END:STANDARD
END:VTIMEZONE
BEGIN:VEVENT
UID:a0a0f7d1b46d6a2a46315dc0db5df1c0
SUMMARY:Alena Hartmann (Orgel), Kammerchor der Hochschule für Musik und Theater Leipzig, Jan Scheerer (Leitung) - Bachfest Leipzig
URL:https://www.concerti.de/termine/alena-hartmann-orgel-kammerchor-der-hochschule-fuer-musik-und-theater-leipzig-jan-scheerer-leitung-894392/
DTSTART;TZID=Europe/Berlin:20260619T093000
DTEND;TZID=Europe/Berlin:20260619T113000
DESCRIPTION:Interpreten: Alena Hartmann (Orgel)\, Kammerchor der Hochschule für Musik und Theater Leipzig\, Jan Scheerer (Leitung) \nProgramm: Werke von Schütz\, Mendelssohn\, J. S. Bach & Brahms \nhttps://www.concerti.de/termine/alena-hartmann-orgel-kammerchor-der-hochschule-fuer-musik-und-theater-leipzig-jan-scheerer-leitung-894392/
LOCATION:Evangelisch Reformierte Kirche\, Leipzig
END:VEVENT
END:VCALENDAR