BEGIN:VCALENDAR
VERSION:2.0
PRODID:concerti//https://www.concerti.de
CALSCALE:GREGORIAN
BEGIN:VTIMEZONE
TZID:Europe/Berlin
X-LIC-LOCATION:Europe/Berlin
BEGIN:DAYLIGHT
TZOFFSETFROM:+0100
TZOFFSETTO:+0200
TZNAME:CEST
DTSTART:19700329T020000
RRULE:FREQ=YEARLY;BYMONTH=3;BYDAY=-1SU
END:DAYLIGHT
BEGIN:STANDARD
TZOFFSETFROM:+0200
TZOFFSETTO:+0100
TZNAME:CET
DTSTART:19701025T030000
RRULE:FREQ=YEARLY;BYMONTH=10;BYDAY=-1SU
END:STANDARD
END:VTIMEZONE
BEGIN:VEVENT
UID:9485afbfcf89547b4866c2ecc204e823
SUMMARY:Johanna Falkinger (Sopran), Miriam Feuersinger (Sopran), Reginald Mobley (Altus), Alois Mühlbacher (Altus), Daniel Johannsen (Tenor), Benedikt Kristjánsson (Tenor), Stefan Zenkl (Bass), Felix Schwandtke (Bass), Orchester Wiener Akademie, Martin Haselböck (Leitung) - Bachfest Leipzig
URL:https://www.concerti.de/termine/johanna-falkinger-sopran-miriam-feuersinger-sopran-reginald-mobley-altus-alois-muehlbacher-altus-daniel-johannsen-tenor-benedikt-kristjansson-tenor-stefan-zenkl-bass-felix-schwand-894386/
DTSTART;TZID=Europe/Berlin:20260618T200000
DTEND;TZID=Europe/Berlin:20260618T220000
DESCRIPTION:Interpreten: Johanna Falkinger (Sopran)\, Miriam Feuersinger (Sopran)\, Reginald Mobley (Altus)\, Alois Mühlbacher (Altus)\, Daniel Johannsen (Tenor)\, Benedikt Kristjánsson (Tenor)\, Stefan Zenkl (Bass)\, Felix Schwandtke (Bass)\, Orchester Wiener Akademie\, Martin Haselböck (Leitung) \nProgramm: J. S. Bach: Sanctus D-Dur\, BWV 241\, Tönet\, ihr Pauken! Erschallet\, Trompeten BWV 214 & Schleicht\, spielende Wellen\, und murmelt gelinde BWV 206\, Caldara: Magnificat C-Dur \nhttps://www.concerti.de/termine/johanna-falkinger-sopran-miriam-feuersinger-sopran-reginald-mobley-altus-alois-muehlbacher-altus-daniel-johannsen-tenor-benedikt-kristjansson-tenor-stefan-zenkl-bass-felix-schwand-894386/
LOCATION:Thomaskirche Leipzig\, Thomaskirchhof 18\, 04109 Leipzig
END:VEVENT
END:VCALENDAR