BEGIN:VCALENDAR
VERSION:2.0
PRODID:concerti//https://www.concerti.de
CALSCALE:GREGORIAN
BEGIN:VTIMEZONE
TZID:Europe/Berlin
X-LIC-LOCATION:Europe/Berlin
BEGIN:DAYLIGHT
TZOFFSETFROM:+0100
TZOFFSETTO:+0200
TZNAME:CEST
DTSTART:19700329T020000
RRULE:FREQ=YEARLY;BYMONTH=3;BYDAY=-1SU
END:DAYLIGHT
BEGIN:STANDARD
TZOFFSETFROM:+0200
TZOFFSETTO:+0100
TZNAME:CET
DTSTART:19701025T030000
RRULE:FREQ=YEARLY;BYMONTH=10;BYDAY=-1SU
END:STANDARD
END:VTIMEZONE
BEGIN:VEVENT
UID:dd948859f3820f935abc39dbc0a642b1
SUMMARY:Sonnenaufgangskonzert - Bachfest Leipzig
URL:https://www.concerti.de/termine/sonnenaufgangskonzert-894355/
DTSTART;TZID=Europe/Berlin:20260617T044500
DTEND;TZID=Europe/Berlin:20260617T064500
DESCRIPTION:Interpreten: Benedikt Kristjánsson (Tenor)\, Margret Koell (Harfe) \nProgramm: Werke von Dowland\, Isaac\, Stölzel & J. S. Bach \nhttps://www.concerti.de/termine/sonnenaufgangskonzert-894355/
LOCATION:Innside By Meliá\, Leipzig
END:VEVENT
END:VCALENDAR