BEGIN:VCALENDAR
VERSION:2.0
PRODID:concerti//https://www.concerti.de
CALSCALE:GREGORIAN
BEGIN:VTIMEZONE
TZID:Europe/Berlin
X-LIC-LOCATION:Europe/Berlin
BEGIN:DAYLIGHT
TZOFFSETFROM:+0100
TZOFFSETTO:+0200
TZNAME:CEST
DTSTART:19700329T020000
RRULE:FREQ=YEARLY;BYMONTH=3;BYDAY=-1SU
END:DAYLIGHT
BEGIN:STANDARD
TZOFFSETFROM:+0200
TZOFFSETTO:+0100
TZNAME:CET
DTSTART:19701025T030000
RRULE:FREQ=YEARLY;BYMONTH=10;BYDAY=-1SU
END:STANDARD
END:VTIMEZONE
BEGIN:VEVENT
UID:3cf72117aa2eb549616bfa76c8bbf267
SUMMARY:Katharina Konradi (Sopran), Marie Henriette Reinhold (Alt), Benedikt Kristjánsson (Tenor), Tobias Berndt (Bass), Gaechinger Cantorey, Hans-Christoph Rademann (Leitung) - Bachfest Leipzig: Top 50 Bach Cantatas
URL:https://www.concerti.de/termine/katharina-konradi-sopran-marie-henriette-reinhold-alt-benedikt-kristjansson-tenor-tobias-berndt-bass-gaechinger-cantorey-hans-christoph-rademann-leitung-894330/
DTSTART;TZID=Europe/Berlin:20260616T140000
DTEND;TZID=Europe/Berlin:20260616T160000
DESCRIPTION:Interpreten: Katharina Konradi (Sopran)\, Marie Henriette Reinhold (Alt)\, Benedikt Kristjánsson (Tenor)\, Tobias Berndt (Bass)\, Gaechinger Cantorey\, Hans-Christoph Rademann (Leitung) \nProgramm: Werke von J. S. Bach \nhttps://www.concerti.de/termine/katharina-konradi-sopran-marie-henriette-reinhold-alt-benedikt-kristjansson-tenor-tobias-berndt-bass-gaechinger-cantorey-hans-christoph-rademann-leitung-894330/
LOCATION:Nikolaikirche\, Leipzig
END:VEVENT
END:VCALENDAR