BEGIN:VCALENDAR
VERSION:2.0
PRODID:concerti//https://www.concerti.de
CALSCALE:GREGORIAN
BEGIN:VTIMEZONE
TZID:Europe/Berlin
X-LIC-LOCATION:Europe/Berlin
BEGIN:DAYLIGHT
TZOFFSETFROM:+0100
TZOFFSETTO:+0200
TZNAME:CEST
DTSTART:19700329T020000
RRULE:FREQ=YEARLY;BYMONTH=3;BYDAY=-1SU
END:DAYLIGHT
BEGIN:STANDARD
TZOFFSETFROM:+0200
TZOFFSETTO:+0100
TZNAME:CET
DTSTART:19701025T030000
RRULE:FREQ=YEARLY;BYMONTH=10;BYDAY=-1SU
END:STANDARD
END:VTIMEZONE
BEGIN:VEVENT
UID:9b79ecec8c7900f750ddce813052841a
SUMMARY:Arvid Gast (Orgel) - Bachfest Leipzig
URL:https://www.concerti.de/termine/arvid-gast-orgel-paulinum-aula-und-universitaetskirche-st-pauli-894343/
DTSTART;TZID=Europe/Berlin:20260616T130000
DTEND;TZID=Europe/Berlin:20260616T150000
DESCRIPTION:Interpreten: Arvid Gast (Orgel) \nProgramm: Werke von J. S. Bach & Schumann \nhttps://www.concerti.de/termine/arvid-gast-orgel-paulinum-aula-und-universitaetskirche-st-pauli-894343/
LOCATION:Paulinum – Aula und Universitätskirche St. Pauli\, Augustusplatz\, 04109 Leipzig
END:VEVENT
END:VCALENDAR