BEGIN:VCALENDAR
VERSION:2.0
PRODID:concerti//https://www.concerti.de
CALSCALE:GREGORIAN
BEGIN:VTIMEZONE
TZID:Europe/Berlin
X-LIC-LOCATION:Europe/Berlin
BEGIN:DAYLIGHT
TZOFFSETFROM:+0100
TZOFFSETTO:+0200
TZNAME:CEST
DTSTART:19700329T020000
RRULE:FREQ=YEARLY;BYMONTH=3;BYDAY=-1SU
END:DAYLIGHT
BEGIN:STANDARD
TZOFFSETFROM:+0200
TZOFFSETTO:+0100
TZNAME:CET
DTSTART:19701025T030000
RRULE:FREQ=YEARLY;BYMONTH=10;BYDAY=-1SU
END:STANDARD
END:VTIMEZONE
BEGIN:VEVENT
UID:cd26ca3e98623d96b9082bf07bf76f30
SUMMARY:Johannes Lang (Orgel), Ensemble Luminosa, Schülerinnen und Schüler der Grundschule forum thomanum, Matthias Schubotz (Leitung) - Bachfest Leipzig
URL:https://www.concerti.de/termine/johannes-lang-orgel-ensemble-luminosa-schuelerinnen-und-schueler-der-grundschule-forum-thomanum-matthias-schubotz-leitung-894309/
DTSTART;TZID=Europe/Berlin:20260615T200000
DTEND;TZID=Europe/Berlin:20260615T220000
DESCRIPTION:Interpreten: Johannes Lang (Orgel)\, Ensemble Luminosa\, Schülerinnen und Schüler der Grundschule forum thomanum\, Matthias Schubotz (Leitung)\, Johannes Lang (Orgel) \nProgramm: J. S. Bach: Präludium und Fuge G-Dur BWV 541.1\, Ammerbach: In principio erat verbum\, Albrici: Sinfonie d-Moll\, Kuhnau: Orgelsonate Nr. 7 a-Moll\, Rust: Canon in der Octave\, Piutti: Fest-Hymnus op. 20 \nhttps://www.concerti.de/termine/johannes-lang-orgel-ensemble-luminosa-schuelerinnen-und-schueler-der-grundschule-forum-thomanum-matthias-schubotz-leitung-894309/
LOCATION:Thomaskirche Leipzig\, Thomaskirchhof 18\, 04109 Leipzig
END:VEVENT
END:VCALENDAR