BEGIN:VCALENDAR
VERSION:2.0
PRODID:concerti//https://www.concerti.de
CALSCALE:GREGORIAN
BEGIN:VTIMEZONE
TZID:Europe/Berlin
X-LIC-LOCATION:Europe/Berlin
BEGIN:DAYLIGHT
TZOFFSETFROM:+0100
TZOFFSETTO:+0200
TZNAME:CEST
DTSTART:19700329T020000
RRULE:FREQ=YEARLY;BYMONTH=3;BYDAY=-1SU
END:DAYLIGHT
BEGIN:STANDARD
TZOFFSETFROM:+0200
TZOFFSETTO:+0100
TZNAME:CET
DTSTART:19701025T030000
RRULE:FREQ=YEARLY;BYMONTH=10;BYDAY=-1SU
END:STANDARD
END:VTIMEZONE
BEGIN:VEVENT
UID:638794d5d3865264e0009fb222ff7e52
SUMMARY:Aurum Ensemble Berlin - Bachfest Leipzig
URL:https://www.concerti.de/termine/aurum-ensemble-berlin-894293/
DTSTART;TZID=Europe/Berlin:20260614T160000
DTEND;TZID=Europe/Berlin:20260614T180000
DESCRIPTION:Interpreten: Aurum Ensemble Berlin \nProgramm: Werke von J. S. Bach \nhttps://www.concerti.de/termine/aurum-ensemble-berlin-894293/
LOCATION:Musikschule Leipzig Johann Sebastian Bach\, Leipzig
END:VEVENT
END:VCALENDAR