BEGIN:VCALENDAR
VERSION:2.0
PRODID:concerti//https://www.concerti.de
CALSCALE:GREGORIAN
BEGIN:VTIMEZONE
TZID:Europe/Berlin
X-LIC-LOCATION:Europe/Berlin
BEGIN:DAYLIGHT
TZOFFSETFROM:+0100
TZOFFSETTO:+0200
TZNAME:CEST
DTSTART:19700329T020000
RRULE:FREQ=YEARLY;BYMONTH=3;BYDAY=-1SU
END:DAYLIGHT
BEGIN:STANDARD
TZOFFSETFROM:+0200
TZOFFSETTO:+0100
TZNAME:CET
DTSTART:19701025T030000
RRULE:FREQ=YEARLY;BYMONTH=10;BYDAY=-1SU
END:STANDARD
END:VTIMEZONE
BEGIN:VEVENT
UID:741bedb732d2758087461a156b291e39
SUMMARY:Martin Stadtfeld (Klavier) - Bachfest Leipzig
URL:https://www.concerti.de/termine/martin-stadtfeld-klavier-894269/
DTSTART;TZID=Europe/Berlin:20260613T190000
DTEND;TZID=Europe/Berlin:20260613T210000
DESCRIPTION:Interpreten: Martin Stadtfeld (Klavier) \nProgramm: J. S. Bach: Nun komm\, der Heiden Heiland BWV 659\, Nun freut euch\, lieben Christen gmein BWV 734\, Ich ruf zu dir\, Herr Jesu Christ BWV 639 & Englische Suite a-Moll BWV 807\, Stadtfeld: Choralspiele & Klaviersonate\, Schumann: Kinderszenen op. 15 \nhttps://www.concerti.de/termine/martin-stadtfeld-klavier-894269/
LOCATION:Schumann-Haus\, Leipzig
END:VEVENT
END:VCALENDAR