BEGIN:VCALENDAR
VERSION:2.0
PRODID:concerti//https://www.concerti.de
CALSCALE:GREGORIAN
BEGIN:VTIMEZONE
TZID:Europe/Berlin
X-LIC-LOCATION:Europe/Berlin
BEGIN:DAYLIGHT
TZOFFSETFROM:+0100
TZOFFSETTO:+0200
TZNAME:CEST
DTSTART:19700329T020000
RRULE:FREQ=YEARLY;BYMONTH=3;BYDAY=-1SU
END:DAYLIGHT
BEGIN:STANDARD
TZOFFSETFROM:+0200
TZOFFSETTO:+0100
TZNAME:CET
DTSTART:19701025T030000
RRULE:FREQ=YEARLY;BYMONTH=10;BYDAY=-1SU
END:STANDARD
END:VTIMEZONE
BEGIN:VEVENT
UID:cba3affe930dfa7d65abc0425b3ad3e3
SUMMARY:Isabel Schicketanz (Sopran), Elvira Bill (Alt), Andreas Scheibner (Bass), Johannes Lang (Orgel), Aachener Bachverein, Leipziger Barockorchester, Georg Hage (Leitung) - Bachfest Leipzig: Motette
URL:https://www.concerti.de/termine/isabel-schicketanz-sopran-elvira-bill-alt-andreas-scheibner-bass-johannes-lang-orgel-aachener-bachverein-leipziger-barockorchester-georg-hage-leitung-thomaskirche-leipzig-894260/
DTSTART;TZID=Europe/Berlin:20260613T150000
DTEND;TZID=Europe/Berlin:20260613T170000
DESCRIPTION:Interpreten: Isabel Schicketanz (Sopran)\, Elvira Bill (Alt)\, Andreas Scheibner (Bass)\, Johannes Lang (Orgel)\, Aachener Bachverein\, Leipziger Barockorchester\, Georg Hage (Leitung) \nProgramm: Werke von J. S. Bach & Mauersberger \nhttps://www.concerti.de/termine/isabel-schicketanz-sopran-elvira-bill-alt-andreas-scheibner-bass-johannes-lang-orgel-aachener-bachverein-leipziger-barockorchester-georg-hage-leitung-thomaskirche-leipzig-894260/
LOCATION:Thomaskirche Leipzig\, Thomaskirchhof 18\, 04109 Leipzig
END:VEVENT
END:VCALENDAR