BEGIN:VCALENDAR
VERSION:2.0
PRODID:concerti//https://www.concerti.de
CALSCALE:GREGORIAN
BEGIN:VTIMEZONE
TZID:Europe/Berlin
X-LIC-LOCATION:Europe/Berlin
BEGIN:DAYLIGHT
TZOFFSETFROM:+0100
TZOFFSETTO:+0200
TZNAME:CEST
DTSTART:19700329T020000
RRULE:FREQ=YEARLY;BYMONTH=3;BYDAY=-1SU
END:DAYLIGHT
BEGIN:STANDARD
TZOFFSETFROM:+0200
TZOFFSETTO:+0100
TZNAME:CET
DTSTART:19701025T030000
RRULE:FREQ=YEARLY;BYMONTH=10;BYDAY=-1SU
END:STANDARD
END:VTIMEZONE
BEGIN:VEVENT
UID:cee293fbcfe7f5ad2265bca61e299a88
SUMMARY:Venus Zi Qing Chai (Klavier) - Bachfest Leipzig
URL:https://www.concerti.de/termine/venus-zi-qing-chai-klavier-894228/
DTSTART;TZID=Europe/Berlin:20260612T113000
DTEND;TZID=Europe/Berlin:20260612T133000
DESCRIPTION:Interpreten: Venus Zi Qing Chai (Klavier) \nProgramm: J. S. Bach: Ouvertüre h-Moll BWV 831.2. Schumann: Davidsbündlertänze\, op. 6 \nhttps://www.concerti.de/termine/venus-zi-qing-chai-klavier-894228/
LOCATION:Alte Börse\, Leipzig
END:VEVENT
END:VCALENDAR