BEGIN:VCALENDAR
VERSION:2.0
PRODID:concerti//https://www.concerti.de
CALSCALE:GREGORIAN
BEGIN:VTIMEZONE
TZID:Europe/Berlin
X-LIC-LOCATION:Europe/Berlin
BEGIN:DAYLIGHT
TZOFFSETFROM:+0100
TZOFFSETTO:+0200
TZNAME:CEST
DTSTART:19700329T020000
RRULE:FREQ=YEARLY;BYMONTH=3;BYDAY=-1SU
END:DAYLIGHT
BEGIN:STANDARD
TZOFFSETFROM:+0200
TZOFFSETTO:+0100
TZNAME:CET
DTSTART:19701025T030000
RRULE:FREQ=YEARLY;BYMONTH=10;BYDAY=-1SU
END:STANDARD
END:VTIMEZONE
BEGIN:VEVENT
UID:6889a1c62c0804251474df6af89d835e
SUMMARY:Isabel Schicketanz (Sopran), Annekathrin Laabs (Alt), Tobias Hunger (Tenor), Philipp Goldmann (Bass), Enno Gröhn (Leitung), Bach Collegium Paris, Collegium Lipsiensis, Patrizia Metzler (Leitung) - Bachfest Leipzig
URL:https://www.concerti.de/termine/isabel-schicketanz-sopran-annekathrin-laabs-alt-tobias-hunger-tenor-philipp-goldmann-bass-enno-groehn-leitung-bach-collegium-paris-collegium-lipsiensis-patrizia-metzler-leitung-paul-894222/
DTSTART;TZID=Europe/Berlin:20260612T093000
DTEND;TZID=Europe/Berlin:20260612T113000
DESCRIPTION:Interpreten: Isabel Schicketanz (Sopran)\, Annekathrin Laabs (Alt)\, Tobias Hunger (Tenor)\, Philipp Goldmann (Bass)\, Enno Gröhn (Leitung)\, Bach Collegium Paris\, Collegium Lipsiensis\, Patrizia Metzler (Leitung) \nProgramm: Knüpfer: Erforsche mich\, Gott\, J. C. Bach: Der Mensch\, vom Weibe geboren\, J. S. Bach: Der Gerechte kömmt um BWV 1149\, J. L. Bach: Gott\, sei uns gnädig\, J. S. Bach: Was Gott tut\, das ist wohlgetan BWV 98 \nhttps://www.concerti.de/termine/isabel-schicketanz-sopran-annekathrin-laabs-alt-tobias-hunger-tenor-philipp-goldmann-bass-enno-groehn-leitung-bach-collegium-paris-collegium-lipsiensis-patrizia-metzler-leitung-paul-894222/
LOCATION:Paulinum – Aula und Universitätskirche St. Pauli\, Augustusplatz\, 04109 Leipzig
END:VEVENT
END:VCALENDAR