BEGIN:VCALENDAR
VERSION:2.0
PRODID:concerti//https://www.concerti.de
CALSCALE:GREGORIAN
BEGIN:VTIMEZONE
TZID:Europe/Berlin
X-LIC-LOCATION:Europe/Berlin
BEGIN:DAYLIGHT
TZOFFSETFROM:+0100
TZOFFSETTO:+0200
TZNAME:CEST
DTSTART:19700329T020000
RRULE:FREQ=YEARLY;BYMONTH=3;BYDAY=-1SU
END:DAYLIGHT
BEGIN:STANDARD
TZOFFSETFROM:+0200
TZOFFSETTO:+0100
TZNAME:CET
DTSTART:19701025T030000
RRULE:FREQ=YEARLY;BYMONTH=10;BYDAY=-1SU
END:STANDARD
END:VTIMEZONE
BEGIN:VEVENT
UID:599c7032e6237c62366fe95a1302f4ff
SUMMARY:Quatuor Ebène - Musikfest Bremen: Beethoven-Zyklus
URL:https://www.concerti.de/termine/quatuor-ebene-die-glocke-bremen-894114/
DTSTART;TZID=Europe/Berlin:20260820T193000
DTEND;TZID=Europe/Berlin:20260820T213000
DESCRIPTION:Interpreten: Quatuor Ebène \nProgramm: Beethoven: Streichquartette Nr. 1 F-Dur op. 18/1\, Nr. 10 Es-Dur op. 74 & Nr. 9 C-Dur op. 59/3 \nhttps://www.concerti.de/termine/quatuor-ebene-die-glocke-bremen-894114/
LOCATION:Die Glocke Bremen\, Domsheide 4\, 28195 Bremen
END:VEVENT
END:VCALENDAR