BEGIN:VCALENDAR
VERSION:2.0
PRODID:concerti//https://www.concerti.de
CALSCALE:GREGORIAN
BEGIN:VTIMEZONE
TZID:Europe/Berlin
X-LIC-LOCATION:Europe/Berlin
BEGIN:DAYLIGHT
TZOFFSETFROM:+0100
TZOFFSETTO:+0200
TZNAME:CEST
DTSTART:19700329T020000
RRULE:FREQ=YEARLY;BYMONTH=3;BYDAY=-1SU
END:DAYLIGHT
BEGIN:STANDARD
TZOFFSETFROM:+0200
TZOFFSETTO:+0100
TZNAME:CET
DTSTART:19701025T030000
RRULE:FREQ=YEARLY;BYMONTH=10;BYDAY=-1SU
END:STANDARD
END:VTIMEZONE
BEGIN:VEVENT
UID:48174f08bd669de548cb66369d53b148
SUMMARY:Alexander Chance (Countertenor), Kristiina Watt (Laute), Fretwork - Musikfest Bremen
URL:https://www.concerti.de/termine/alexander-chance-countertenor-kristiina-watt-laute-fretwork-894135/
DTSTART;TZID=Europe/Berlin:20260818T193000
DTEND;TZID=Europe/Berlin:20260818T213000
DESCRIPTION:Interpreten: Alexander Chance (Countertenor)\, Kristiina Watt (Laute)\, Fretwork \nProgramm: Dowland: Flow my tears\, Come again\, sweet love\, In Darkness let me dwell\, I saw my lady weep und Time stands still u. a. \nhttps://www.concerti.de/termine/alexander-chance-countertenor-kristiina-watt-laute-fretwork-894135/
LOCATION:Klosterkirche St. Marien\, Lilienthal
END:VEVENT
END:VCALENDAR