BEGIN:VCALENDAR
VERSION:2.0
PRODID:concerti//https://www.concerti.de
CALSCALE:GREGORIAN
BEGIN:VTIMEZONE
TZID:Europe/Berlin
X-LIC-LOCATION:Europe/Berlin
BEGIN:DAYLIGHT
TZOFFSETFROM:+0100
TZOFFSETTO:+0200
TZNAME:CEST
DTSTART:19700329T020000
RRULE:FREQ=YEARLY;BYMONTH=3;BYDAY=-1SU
END:DAYLIGHT
BEGIN:STANDARD
TZOFFSETFROM:+0200
TZOFFSETTO:+0100
TZNAME:CET
DTSTART:19701025T030000
RRULE:FREQ=YEARLY;BYMONTH=10;BYDAY=-1SU
END:STANDARD
END:VTIMEZONE
BEGIN:VEVENT
UID:13d3e6e7a56e948c76693bf86ec12b4f
SUMMARY:From Cuba with Love - Musikfest Bremen
URL:https://www.concerti.de/termine/from-cuba-with-love-894125/
DTSTART;TZID=Europe/Berlin:20260817T193000
DTEND;TZID=Europe/Berlin:20260817T213000
DESCRIPTION:Interpreten: Roberto Fonseca Trio \nhttps://www.concerti.de/termine/from-cuba-with-love-894125/
LOCATION:Hapag-Hallen\, Cuxhaven
END:VEVENT
END:VCALENDAR